BEGIN:VCALENDAR
VERSION:2.0
PRODID:spatie/icalendar-generator
DESCRIPTION:Events from Friendship Community Baptist Church - Buford GA
X-WR-CALDESC:Events from Friendship Community Baptist Church - Buford GA
REFRESH-INTERVAL;VALUE=DURATION:PT1440M
X-PUBLISHED-TTL:PT1440M
BEGIN:VTIMEZONE
TZID:America/New_York
BEGIN:DAYLIGHT
DTSTART:20250309T020000Z
TZOFFSETFROM:-0500
TZOFFSETTO:-0400
END:DAYLIGHT
BEGIN:STANDARD
DTSTART:20251102T020000Z
TZOFFSETFROM:-0400
TZOFFSETTO:-0500
END:STANDARD
BEGIN:DAYLIGHT
DTSTART:20260308T020000Z
TZOFFSETFROM:-0500
TZOFFSETTO:-0400
END:DAYLIGHT
END:VTIMEZONE
BEGIN:VTIMEZONE
TZID:UTC
BEGIN:STANDARD
DTSTART:20250724T020014Z
TZOFFSETFROM:+0000
TZOFFSETTO:+0000
END:STANDARD
END:VTIMEZONE
BEGIN:VEVENT
UID:17-2
DTSTAMP:20260420T020014Z
SUMMARY:Sunday Worship
LOCATION:
ORGANIZER;CN=admin:MAILTO:Rdrunr@Bellsouth.net
RRULE:FREQ=WEEKLY;COUNT=0
DTSTART;TZID=America/New_York:20250907T100000
DTEND;TZID=America/New_York:20250907T110000
X-ALT-DESC;FMTTYPE=TEXT/HTML:Traditional Southern Baptist\, Traditional Hym
 ns\, Sermon\, Time for Reflection and Commitment &amp;nbsp\;
CATEGORIES:General
URL;VALUE=URI:https://fcbc-bufordga.com/mc-events/sunday-worship/?mc_id=17
METHOD:PUBLISH
END:VEVENT
END:VCALENDAR