BEGIN:VCALENDAR
VERSION:2.0
PRODID:spatie/icalendar-generator
DESCRIPTION:Events from Friendship Community Baptist Church - Buford GA
X-WR-CALDESC:Events from Friendship Community Baptist Church - Buford GA
REFRESH-INTERVAL;VALUE=DURATION:PT1440M
X-PUBLISHED-TTL:PT1440M
BEGIN:VTIMEZONE
TZID:America/New_York
BEGIN:DAYLIGHT
DTSTART:20250309T020000Z
TZOFFSETFROM:-0500
TZOFFSETTO:-0400
END:DAYLIGHT
BEGIN:STANDARD
DTSTART:20251102T020000Z
TZOFFSETFROM:-0400
TZOFFSETTO:-0500
END:STANDARD
BEGIN:DAYLIGHT
DTSTART:20260308T020000Z
TZOFFSETFROM:-0500
TZOFFSETTO:-0400
END:DAYLIGHT
END:VTIMEZONE
BEGIN:VTIMEZONE
TZID:UTC
BEGIN:STANDARD
DTSTART:20250724T014557Z
TZOFFSETFROM:+0000
TZOFFSETTO:+0000
END:STANDARD
END:VTIMEZONE
BEGIN:VEVENT
UID:268-4
DTSTAMP:20260420T014557Z
SUMMARY:Psalm 100 Community Choir Practice
LOCATION:
ORGANIZER;CN=admin:MAILTO:Rdrunr@Bellsouth.net
DTSTART;TZID=America/New_York:20251203T181500
DTEND;TZID=America/New_York:20251203T201500
X-ALT-DESC;FMTTYPE=TEXT/HTML:Contact: AnnaLisaCro@gmail.com
CATEGORIES:General
URL;VALUE=URI:https://fcbc-bufordga.com/mc-events/psalm-100-community-choir
 -practice/
METHOD:PUBLISH
END:VEVENT
END:VCALENDAR